BEGIN:VCALENDAR
VERSION:2.0
PRODID:-//Squarespace Inc/Squarespace 6//v6//EN
BEGIN:VEVENT
UID:5e2d227ce605b230550dc95b@squarespace.com
DTSTAMP:20200126T052824Z
DTSTART:20210327T053000Z
DTEND:20210403T053000Z
SUMMARY:2021 Thailand Yoga Retreat - Details announced soon
END:VEVENT
END:VCALENDAR
