BEGIN:VCALENDAR
VERSION:2.0
PRODID:-//Squarespace Inc/Squarespace 6//v6//EN
BEGIN:VEVENT
UID:5e1698210c5a17560b59a35f@squarespace.com
DTSTAMP:20200126T013713Z
DTSTART:20200221T083000Z
DTEND:20200221T103000Z
SUMMARY:Be-YOU-tiful Sister Circle
END:VEVENT
END:VCALENDAR
