BEGIN:VCALENDAR
VERSION:2.0
PRODID:-//Squarespace Inc/Squarespace 6//v6//EN
BEGIN:VEVENT
UID:5e16967fccd1d138945b7adc@squarespace.com
DTSTAMP:20200109T030337Z
DTSTART:20200110T083000Z
DTEND:20200110T103000Z
SUMMARY:Bright Future Vision Board Fundraiser
END:VEVENT
END:VCALENDAR
