BEGIN:VCALENDAR
VERSION:2.0
PRODID:-//Squarespace Inc/Squarespace 6//v6//EN
BEGIN:VEVENT
UID:5d534953b8a6f200019df334@squarespace.com
DTSTAMP:20191013T093640Z
DTSTART:20191026T230000Z
DTEND:20191027T050000Z
SUMMARY:*SOLD OUT* Clear Vision - Urban Immersion 
GEO:-36.743634;147.170666
LOCATION:The Beauty of Yoga\, Mount Beauty\, 30 Hollonds Street\, Mount Bea
 uty\, Australia
END:VEVENT
END:VCALENDAR
