BEGIN:VCALENDAR
VERSION:2.0
PRODID:-//Squarespace Inc/Squarespace 6//v6//EN
BEGIN:VEVENT
UID:5d7ec950edc1ba514b0c3a92@squarespace.com
DTSTAMP:20191112T041251Z
DTSTART:20191124T040000Z
DTEND:20191124T070000Z
SUMMARY:Meditation Made Easy
END:VEVENT
END:VCALENDAR
