BEGIN:VCALENDAR
VERSION:2.0
PRODID:-//Squarespace Inc/Squarespace 6//v6//EN
BEGIN:VEVENT
UID:5dbe1fa77e97a73b82716778@squarespace.com
DTSTAMP:20191112T041324Z
DTSTART:20191127T070000Z
DTEND:20191127T080000Z
SUMMARY:MO YOGA -Supporting Movember
END:VEVENT
END:VCALENDAR
