BEGIN:VCALENDAR
VERSION:2.0
PRODID:-//Squarespace Inc/Squarespace 6//v6//EN
BEGIN:VEVENT
UID:5e16990c0c5a17560b59c324@squarespace.com
DTSTAMP:20200126T013506Z
DTSTART:20200209T050000Z
DTEND:20200209T070000Z
SUMMARY:Monthly Yin Yoga &amp\; Yoga Nidra
END:VEVENT
END:VCALENDAR
