BEGIN:VCALENDAR
VERSION:2.0
PRODID:-//Squarespace Inc/Squarespace 6//v6//EN
BEGIN:VEVENT
UID:5d7eccaa1eb9512217e8484a@squarespace.com
DTSTAMP:20190915T235219Z
DTSTART:20191013T050000Z
DTEND:20191013T070000Z
SUMMARY:Monthly Yin Yoga &amp\; Yoga Nidra 
END:VEVENT
END:VCALENDAR
