BEGIN:VCALENDAR
VERSION:2.0
PRODID:-//Squarespace Inc/Squarespace 6//v6//EN
BEGIN:VEVENT
UID:5e2d238b47e55f1b4879fddd@squarespace.com
DTSTAMP:20200130T215919Z
DTSTART:20211010T030000Z
DTEND:20211015T220000Z
SUMMARY:2021 Bali Yoga &amp\; Meditation Retreat 
END:VEVENT
END:VCALENDAR
