BEGIN:VCALENDAR
VERSION:2.0
PRODID:-//Squarespace Inc/Squarespace 6//v6//EN
BEGIN:VEVENT
UID:5de5a2f529802b34bcc5ef88@squarespace.com
DTSTAMP:20191202T235436Z
DTSTART:20191229T070000Z
DTEND:20191229T100000Z
SUMMARY:Summer Evening Yoga @ Waddingtons 
GEO:-36.355406;147.021297
LOCATION:Waddingtons at Kergunyah\, 2688 Kiewa Valley Highway\, Kergunyah\, 
 VIC\, 3691\, Australia
END:VEVENT
END:VCALENDAR
