BEGIN:VCALENDAR
VERSION:2.0
PRODID:-//Squarespace Inc/Squarespace 6//v6//EN
BEGIN:VEVENT
UID:5e1695dd108c2c1815ab72ed@squarespace.com
DTSTAMP:20200109T025642Z
DTSTART:20200229T220000Z
DTEND:20200301T060000Z
SUMMARY:The Desire Map Workshop Level 1 - On The Way To What You What *repe
 ated by popular demand*
GEO:-36.743658;147.170739
LOCATION:The Beauty Of Yoga\, 32 Hollonds Street\, Mount Beauty\, VIC\, 369
 9\, Australia
END:VEVENT
END:VCALENDAR
