BEGIN:VCALENDAR
VERSION:2.0
PRODID:-//Squarespace Inc/Squarespace 6//v6//EN
BEGIN:VEVENT
UID:5da2ebc8daaa2310a07636e8@squarespace.com
DTSTAMP:20200130T215949Z
DTSTART:20200222T220000Z
DTEND:20200223T070000Z
SUMMARY:The Desire Map Workshop Level 1
END:VEVENT
END:VCALENDAR
