BEGIN:VCALENDAR
VERSION:2.0
PRODID:-//Squarespace Inc/Squarespace 6//v6//EN
BEGIN:VEVENT
UID:5da2ee005d87401658f9b3de@squarespace.com
DTSTAMP:20191112T041401Z
DTSTART:20200321T220000Z
DTEND:20200322T070000Z
SUMMARY:The Desire Map Workshop Level 2
END:VEVENT
END:VCALENDAR
